BEGIN:VCALENDAR
VERSION:2.0
PRODID:icalendar-ruby
CALSCALE:GREGORIAN
BEGIN:VEVENT
DTSTAMP:20260422T175237Z
UID:6b34890f-e376-4355-86dc-6934c4468442
DTSTART;VALUE=DATE:20250213
DESCRIPTION:Property ID# 586566\, Locatoin: Ray White Johnsonville (not sel
 ling prior)\, Time: 1:00PM
SUMMARY:Auction for 
END:VEVENT
END:VCALENDAR
