BEGIN:VCALENDAR
VERSION:2.0
PRODID:icalendar-ruby
CALSCALE:GREGORIAN
BEGIN:VEVENT
DTSTAMP:20260421T051309Z
UID:386a729c-a063-40f7-8cb2-1e814cbfdad3
DTSTART;VALUE=DATE:20241121
DESCRIPTION:Property ID# 583496\, Locatoin: 1/77 Thorndon Quay\, Wellington
 \, Time: 12:00PM
SUMMARY:Auction for 
END:VEVENT
END:VCALENDAR
