BEGIN:VCALENDAR
VERSION:2.0
PRODID:icalendar-ruby
CALSCALE:GREGORIAN
BEGIN:VEVENT
DTSTAMP:20260421T051458Z
UID:560ac9fa-8246-4f79-a013-60f05c2ab9b0
DTSTART;VALUE=DATE:20240424
DESCRIPTION:Property ID# 572485\, Locatoin: 1/77 Thorndon Quay\, Wellington
 \, Time: 12:00PM
SUMMARY:Auction for 
END:VEVENT
END:VCALENDAR
