BEGIN:VCALENDAR
VERSION:2.0
PRODID:icalendar-ruby
CALSCALE:GREGORIAN
BEGIN:VEVENT
DTSTAMP:20260420T061431Z
UID:13400bcd-32cc-46f8-9c7a-e2d0f80c9788
DTSTART;VALUE=DATE:20231012
DESCRIPTION:Property ID# 562520\, Locatoin: Harcourts 516 High Street\, Low
 er Hutt\, Time: 12:00PM
SUMMARY:Auction for 
END:VEVENT
END:VCALENDAR
