BEGIN:VCALENDAR
VERSION:2.0
PRODID:icalendar-ruby
CALSCALE:GREGORIAN
BEGIN:VEVENT
DTSTAMP:20260419T225649Z
UID:556aa89e-659d-4b35-9c01-9df2dedd54a3
DTSTART;VALUE=DATE:20220628
DESCRIPTION:Property ID# 538235\, Locatoin: Raywhite  9/11 Kings Crescent\,
  Hutt Central\, Lower Hutt 5010\, Time: 2:00PM
SUMMARY:Auction for 
END:VEVENT
END:VCALENDAR
