BEGIN:VCALENDAR
VERSION:2.0
PRODID:icalendar-ruby
CALSCALE:GREGORIAN
BEGIN:VEVENT
DTSTAMP:20260425T152236Z
UID:83701a53-11ab-4330-95c1-cfeb6bdd781c
DTSTART;VALUE=DATE:20220414
DESCRIPTION:Property ID# 532031\, Locatoin: Harcourts Paremata at 4pm (unle
 ss sold prior)\, Time: 12:00PM
SUMMARY:Auction for 
END:VEVENT
END:VCALENDAR
