BEGIN:VCALENDAR
VERSION:2.0
PRODID:icalendar-ruby
CALSCALE:GREGORIAN
BEGIN:VEVENT
DTSTAMP:20260423T085100Z
UID:46c76801-a339-4ae3-b09d-874a608b67bf
DTSTART;VALUE=DATE:20220204
DESCRIPTION:Property ID# 526549\, Locatoin: Friday 12 Noon\, Harcourts Auct
 ion Rooms 54-56 Cambridge Terrace. Te Aro\, Time: 12:00PM
SUMMARY:Auction for 
END:VEVENT
END:VCALENDAR
