BEGIN:VCALENDAR
VERSION:2.0
PRODID:icalendar-ruby
CALSCALE:GREGORIAN
BEGIN:VEVENT
DTSTAMP:20260420T061719Z
UID:6afb9f69-3c70-4a40-b960-430e65c3a48a
DTSTART;VALUE=DATE:20211104
DESCRIPTION:Property ID# 519645\, Locatoin: Harcourts\, 516 High Street Low
 er Hutt \, Time: 4:00PM
SUMMARY:Auction for 
END:VEVENT
END:VCALENDAR
