BEGIN:VCALENDAR
VERSION:2.0
PRODID:icalendar-ruby
CALSCALE:GREGORIAN
BEGIN:VEVENT
DTSTAMP:20260420T222739Z
UID:fc772346-27d5-49e2-b00b-806e9093908e
DTSTART;VALUE=DATE:20210916
DESCRIPTION:Property ID# 517167\, Time: 12:30PM
SUMMARY:Auction for 
END:VEVENT
END:VCALENDAR
