BEGIN:VCALENDAR
VERSION:2.0
PRODID:icalendar-ruby
CALSCALE:GREGORIAN
BEGIN:VEVENT
DTSTAMP:20260425T151854Z
UID:15410c40-5e0f-4879-be11-1b59e3bdc9e7
DTSTART;VALUE=DATE:20210903
DESCRIPTION:Property ID# 515436\, Locatoin: Harcourts via Zoom/Telephone Bi
 dding\, Time: 4:30PM
SUMMARY:Auction for 
END:VEVENT
END:VCALENDAR
