BEGIN:VCALENDAR
VERSION:2.0
PRODID:icalendar-ruby
CALSCALE:GREGORIAN
BEGIN:VEVENT
DTSTAMP:20260419T195843Z
UID:ecfeed09-16de-4a3e-8dbd-4182471248ef
DTSTART;VALUE=DATE:20210721
DESCRIPTION:Property ID# 513498\, Locatoin: Ray White Hutt City Office\, 9-
 11 Kings Crescent\, Lower Hutt\, Time: 2:00PM
SUMMARY:Auction for 
END:VEVENT
END:VCALENDAR
