BEGIN:VCALENDAR
VERSION:2.0
PRODID:icalendar-ruby
CALSCALE:GREGORIAN
BEGIN:VEVENT
DTSTAMP:20260421T045058Z
UID:54418bda-52df-4afa-8bb7-eb00f8c43479
DTSTART;VALUE=DATE:20210617
DESCRIPTION:Property ID# 511141\, Locatoin: Harcourts Khandallah\, 6 Dekka 
 Street\, Khandallah.\, Time: 2:00PM
SUMMARY:Auction for 
END:VEVENT
END:VCALENDAR
