BEGIN:VCALENDAR
VERSION:2.0
PRODID:icalendar-ruby
CALSCALE:GREGORIAN
BEGIN:VEVENT
DTSTAMP:20260421T132728Z
UID:6fdcb8eb-545b-4a95-a9e7-0c3bc970b79f
DTSTART;VALUE=DATE:20210609
DESCRIPTION:Property ID# 510960\, Locatoin: Raywhite Hutt City\, 9-11 Kings
  Crescent\, Lower Hutt\, Time: 2:00PM
SUMMARY:Auction for 
END:VEVENT
END:VCALENDAR
