BEGIN:VCALENDAR
VERSION:2.0
PRODID:icalendar-ruby
CALSCALE:GREGORIAN
BEGIN:VEVENT
DTSTAMP:20260419T202437Z
UID:5d8afc59-9c14-4d34-90cb-17208ce9d95a
DTSTART;VALUE=DATE:20210520
DESCRIPTION:Property ID# 508509\, Locatoin: Ray White Hutt City Office\, 9-
 11 Kings Crescent\, Lower Hutt\, Time: 2:00PM
SUMMARY:Auction for 
END:VEVENT
END:VCALENDAR
