BEGIN:VCALENDAR
VERSION:2.0
PRODID:icalendar-ruby
CALSCALE:GREGORIAN
BEGIN:VEVENT
DTSTAMP:20260425T152518Z
UID:67956a74-cd89-4b86-bd82-f1e4ffe04dba
DTSTART;VALUE=DATE:20210512
DESCRIPTION:Property ID# 507524\, Locatoin: Harcourts Paremata Office - 7 D
 olly Varden Crescent\, Paremata (not selling prior)\, Time: 12:00PM
SUMMARY:Auction for 
END:VEVENT
END:VCALENDAR
