BEGIN:VCALENDAR
VERSION:2.0
PRODID:icalendar-ruby
CALSCALE:GREGORIAN
BEGIN:VEVENT
DTSTAMP:20260419T231524Z
UID:adbbfd02-ee1e-4496-b7da-93ecd90a4216
DTSTART;VALUE=DATE:20210428
DESCRIPTION:Property ID# 507501\, Locatoin: Raywhite Hutt City\, 9-11 Kings
  Crescent\, Lower Hutt\, Time: 2:00PM
SUMMARY:Auction for 
END:VEVENT
END:VCALENDAR
