BEGIN:VCALENDAR
VERSION:2.0
PRODID:icalendar-ruby
CALSCALE:GREGORIAN
BEGIN:VEVENT
DTSTAMP:20260420T061545Z
UID:fc3ae64e-e3b2-407f-9d02-16d4bbdea2cb
DTSTART;VALUE=DATE:20210414
DESCRIPTION:Property ID# 506353\, Locatoin: Harcourts\, 516 High St\, Lower
  Hutt\, Time: 12:00PM
SUMMARY:Auction for 
END:VEVENT
END:VCALENDAR
