BEGIN:VCALENDAR
VERSION:2.0
PRODID:icalendar-ruby
CALSCALE:GREGORIAN
BEGIN:VEVENT
DTSTAMP:20260420T061240Z
UID:1d94d6c6-de60-4130-b6d7-f374c1c53cb7
DTSTART;VALUE=DATE:20210408
DESCRIPTION:Property ID# 505119\, Locatoin: Harcourts\, 516 High St\, Lower
  Hutt\, Time: 12:00PM
SUMMARY:Auction for 
END:VEVENT
END:VCALENDAR
