BEGIN:VCALENDAR
VERSION:2.0
PRODID:icalendar-ruby
CALSCALE:GREGORIAN
BEGIN:VEVENT
DTSTAMP:20260420T222918Z
UID:77b6f0b5-b52f-42f8-9784-d119c345003e
DTSTART;VALUE=DATE:20210322
DESCRIPTION:Property ID# 504588\, Time: 2:00PM
SUMMARY:Auction for 
END:VEVENT
END:VCALENDAR
