BEGIN:VCALENDAR
VERSION:2.0
PRODID:icalendar-ruby
CALSCALE:GREGORIAN
BEGIN:VEVENT
DTSTAMP:20260420T061746Z
UID:665d9c78-eba0-40ec-939c-57080aa3252a
DTSTART;VALUE=DATE:20210318
DESCRIPTION:Property ID# 503545\, Time: 12:00PM
SUMMARY:Auction for 
END:VEVENT
END:VCALENDAR
