BEGIN:VCALENDAR
VERSION:2.0
PRODID:icalendar-ruby
CALSCALE:GREGORIAN
BEGIN:VEVENT
DTSTAMP:20260419T231319Z
UID:71bc97e3-18ca-440a-840c-bb71bdaf1e17
DTSTART;VALUE=DATE:20210330
DESCRIPTION:Property ID# 502850\, Locatoin: Raywhite Hutt City\, 9-11 Kings
  Crescent\, Lower Hutt\, Time: 2:00AM
SUMMARY:Auction for 
END:VEVENT
END:VCALENDAR
