BEGIN:VCALENDAR
VERSION:2.0
PRODID:icalendar-ruby
CALSCALE:GREGORIAN
BEGIN:VEVENT
DTSTAMP:20260419T232011Z
UID:a28d4fdd-61a6-4a56-be58-9f6ab7c08add
DTSTART;VALUE=DATE:20210303
DESCRIPTION:Property ID# 502435\, Locatoin: Raywhite Hutt City\, 9-11 Kings
  Crescent\, Lower Hutt\, Time: 2:00PM
SUMMARY:Auction for 
END:VEVENT
END:VCALENDAR
