BEGIN:VCALENDAR
VERSION:2.0
PRODID:icalendar-ruby
CALSCALE:GREGORIAN
BEGIN:VEVENT
DTSTAMP:20260423T090404Z
UID:23672f87-2e91-49e3-a4fc-7ec550342c21
DTSTART;VALUE=DATE:20210302
DESCRIPTION:Property ID# 502024\, Locatoin: On site 59 Jubilee Road\, at 12
  noon.\, Time: 12:00PM
SUMMARY:Auction for 
END:VEVENT
END:VCALENDAR
