BEGIN:VCALENDAR
VERSION:2.0
PRODID:icalendar-ruby
CALSCALE:GREGORIAN
BEGIN:VEVENT
DTSTAMP:20260419T225520Z
UID:81600d0d-aa8c-4911-9cde-d9d025b10850
DTSTART;VALUE=DATE:20210223
DESCRIPTION:Property ID# 501953\, Time: 2:00PM
SUMMARY:Auction for 
END:VEVENT
END:VCALENDAR
