BEGIN:VCALENDAR
VERSION:2.0
PRODID:icalendar-ruby
CALSCALE:GREGORIAN
BEGIN:VEVENT
DTSTAMP:20260419T231120Z
UID:f5d78241-1990-41f8-9314-d5a0feea4ba3
DTSTART;VALUE=DATE:20210212
DESCRIPTION:Property ID# 500821\, Locatoin: Raywhite Hutt City\, 9-11 Kings
  Crescent\, Lower Hutt\, Time: 2:00PM
SUMMARY:Auction for 
END:VEVENT
END:VCALENDAR
