BEGIN:VCALENDAR
VERSION:2.0
PRODID:icalendar-ruby
CALSCALE:GREGORIAN
BEGIN:VEVENT
DTSTAMP:20260419T200922Z
UID:bf7629bb-4090-41bb-9b0a-3b18f95cb060
DTSTART;VALUE=DATE:20201203
DESCRIPTION:Property ID# 495710\, Locatoin: Ray White Hutt City Office\, 9-
 11 Kings Crescent\, Lower Hutt\, Time: 12:00PM
SUMMARY:Auction for 
END:VEVENT
END:VCALENDAR
