BEGIN:VCALENDAR
VERSION:2.0
PRODID:icalendar-ruby
CALSCALE:GREGORIAN
BEGIN:VEVENT
DTSTAMP:20260420T061906Z
UID:e2372488-573e-4420-9b4d-7bd4158ae118
DTSTART;VALUE=DATE:20201022
DESCRIPTION:Property ID# 491954\, Locatoin: Harcourts\, 516 High St\, Lower
  Hutt\, Time: 2:00PM
SUMMARY:Auction for 
END:VEVENT
END:VCALENDAR
