BEGIN:VCALENDAR
VERSION:2.0
PRODID:icalendar-ruby
CALSCALE:GREGORIAN
BEGIN:VEVENT
DTSTAMP:20260419T225400Z
UID:8bdf201a-c216-4a87-ab7e-c330529e48ae
DTSTART;VALUE=DATE:20200930
DESCRIPTION:Property ID# 489593\, Locatoin: 9-11 Kings Crescent\, Lower Hut
 t \, Time: 12:00PM
SUMMARY:Auction for 
END:VEVENT
END:VCALENDAR
