BEGIN:VCALENDAR
VERSION:2.0
PRODID:icalendar-ruby
CALSCALE:GREGORIAN
BEGIN:VEVENT
DTSTAMP:20260419T200602Z
UID:77150d49-b3a2-4d37-b1a4-5ea0f02b5314
DTSTART;VALUE=DATE:20200910
DESCRIPTION:Property ID# 488121\, Locatoin: Ray White Hutt City Office\, 9-
 11 Kings Crescent\, Lower Hutt\, Time: 2:00PM
SUMMARY:Auction for 
END:VEVENT
END:VCALENDAR
