BEGIN:VCALENDAR
VERSION:2.0
PRODID:icalendar-ruby
CALSCALE:GREGORIAN
BEGIN:VEVENT
DTSTAMP:20260419T225951Z
UID:0b7984de-dfdc-40b6-b020-7bd42a93e222
DTSTART;VALUE=DATE:20200915
DESCRIPTION:Property ID# 487357\, Locatoin: 9-11 KIngs Crescent\, Lower Hut
 t\, Time: 2:00PM
SUMMARY:Auction for 
END:VEVENT
END:VCALENDAR
