BEGIN:VCALENDAR
VERSION:2.0
PRODID:icalendar-ruby
CALSCALE:GREGORIAN
BEGIN:VEVENT
DTSTAMP:20260419T164903Z
UID:916cfb2b-1da6-411b-bba8-075d17fd43cd
DTSTART;VALUE=DATE:20200306
DESCRIPTION:Property ID# 473080\, Locatoin: Ray White Hutt City Office\, 9-
 11 Kings Crescent\, Lower Hutt\, Time: 2:00PM
SUMMARY:Auction for 
END:VEVENT
END:VCALENDAR
